BEGIN:VCALENDAR
VERSION:2.0
PRODID:-//Parks &amp; Rec Gastropub and Sports Bar | Forest Glade Plaza | Windsor - ECPv6.15.4//NONSGML v1.0//EN
CALSCALE:GREGORIAN
METHOD:PUBLISH
X-WR-CALNAME:Parks &amp; Rec Gastropub and Sports Bar | Forest Glade Plaza | Windsor
X-ORIGINAL-URL:https://parksrec.ca
X-WR-CALDESC:Events for Parks &amp; Rec Gastropub and Sports Bar | Forest Glade Plaza | Windsor
REFRESH-INTERVAL;VALUE=DURATION:PT1H
X-Robots-Tag:noindex
X-PUBLISHED-TTL:PT1H
BEGIN:VTIMEZONE
TZID:America/Detroit
BEGIN:DAYLIGHT
TZOFFSETFROM:-0500
TZOFFSETTO:-0400
TZNAME:EDT
DTSTART:20250309T070000
END:DAYLIGHT
BEGIN:STANDARD
TZOFFSETFROM:-0400
TZOFFSETTO:-0500
TZNAME:EST
DTSTART:20251102T060000
END:STANDARD
END:VTIMEZONE
BEGIN:VEVENT
DTSTART;TZID=America/Detroit:20250514T170000
DTEND;TZID=America/Detroit:20250514T230000
DTSTAMP:20260419T095826
CREATED:20250507T004206Z
LAST-MODIFIED:20250507T004206Z
UID:4966-1747242000-1747263600@parksrec.ca
SUMMARY:Cruise Night
DESCRIPTION:All makes and models welcome—5pm till dusk. Free spectator admission! No car registration needed—just show up polished! \nDig in: \n$15 half-pound burger & fries\n$14 jumbo bacon cheese dog & fries\nBeer specials \nEvery Wednesday\, a Parks staff member picks their favourite ride—the “Parks Pick.” Winner gets a $25 Parks gift certificate. See you there!
URL:https://parksrec.ca/event/cruise-night-1/
CATEGORIES:Event Night
END:VEVENT
END:VCALENDAR