BEGIN:VCALENDAR
VERSION:2.0
PRODID:-//Parks &amp; Rec Gastropub and Sports Bar | Forest Glade Plaza | Windsor - ECPv6.15.4//NONSGML v1.0//EN
CALSCALE:GREGORIAN
METHOD:PUBLISH
X-WR-CALNAME:Parks &amp; Rec Gastropub and Sports Bar | Forest Glade Plaza | Windsor
X-ORIGINAL-URL:https://parksrec.ca
X-WR-CALDESC:Events for Parks &amp; Rec Gastropub and Sports Bar | Forest Glade Plaza | Windsor
REFRESH-INTERVAL;VALUE=DURATION:PT1H
X-Robots-Tag:noindex
X-PUBLISHED-TTL:PT1H
BEGIN:VTIMEZONE
TZID:America/Detroit
BEGIN:DAYLIGHT
TZOFFSETFROM:-0500
TZOFFSETTO:-0400
TZNAME:EDT
DTSTART:20250309T070000
END:DAYLIGHT
BEGIN:STANDARD
TZOFFSETFROM:-0400
TZOFFSETTO:-0500
TZNAME:EST
DTSTART:20251102T060000
END:STANDARD
BEGIN:DAYLIGHT
TZOFFSETFROM:-0500
TZOFFSETTO:-0400
TZNAME:EDT
DTSTART:20260308T070000
END:DAYLIGHT
BEGIN:STANDARD
TZOFFSETFROM:-0400
TZOFFSETTO:-0500
TZNAME:EST
DTSTART:20261101T060000
END:STANDARD
END:VTIMEZONE
BEGIN:VEVENT
DTSTART;TZID=America/Detroit:20260418T190000
DTEND;TZID=America/Detroit:20260418T220000
DTSTAMP:20260419T093200
CREATED:20240612T194618Z
LAST-MODIFIED:20260401T221740Z
UID:3711-1776538800-1776549600@parksrec.ca
SUMMARY:Tim Lucas - Live At Parks
DESCRIPTION:Tim Lucas – Live At Parks at 7pm
URL:https://parksrec.ca/event/live-music-parks-rec-8/
CATEGORIES:Live Music
END:VEVENT
BEGIN:VEVENT
DTSTART;TZID=America/Detroit:20260417T190000
DTEND;TZID=America/Detroit:20260417T220000
DTSTAMP:20260419T093200
CREATED:20230915T203233Z
LAST-MODIFIED:20260401T221103Z
UID:3436-1776452400-1776463200@parksrec.ca
SUMMARY:Matt Lalonde - Live At Parks
DESCRIPTION:Matt Lalonde – Live At Parks  at 7pm
URL:https://parksrec.ca/event/live-music-parks-rec-5/
CATEGORIES:Live Music
END:VEVENT
BEGIN:VEVENT
DTSTART;TZID=America/Detroit:20260411T190000
DTEND;TZID=America/Detroit:20260411T220000
DTSTAMP:20260419T093200
CREATED:20250502T004515Z
LAST-MODIFIED:20260401T221304Z
UID:4481-1775934000-1775944800@parksrec.ca
SUMMARY:Joel Mayville - Live At Parks
DESCRIPTION:Joel Mayville – Live At Parks  at 7pm
URL:https://parksrec.ca/event/live-at-parks-7/
CATEGORIES:Live Music
END:VEVENT
BEGIN:VEVENT
DTSTART;TZID=America/Detroit:20260410T190000
DTEND;TZID=America/Detroit:20260410T220000
DTSTAMP:20260419T093200
CREATED:20250904T204620Z
LAST-MODIFIED:20260401T221428Z
UID:5106-1775847600-1775858400@parksrec.ca
SUMMARY:Chris Bolister - Live At Parks
DESCRIPTION:Chris Bolister – Live At Parks at 7pm
URL:https://parksrec.ca/event/chris-bolister-live-at-parks-2/
CATEGORIES:Live Music
END:VEVENT
BEGIN:VEVENT
DTSTART;TZID=America/Detroit:20260404T190000
DTEND;TZID=America/Detroit:20260404T220000
DTSTAMP:20260419T093200
CREATED:20250304T221314Z
LAST-MODIFIED:20260401T221018Z
UID:4802-1775329200-1775340000@parksrec.ca
SUMMARY:Muskoka Knights - Live At Parks
DESCRIPTION:Muskoka Knights – Live At Parks at 7pm
URL:https://parksrec.ca/event/muskoka-knights-live-at-parks-2/
CATEGORIES:Live Music
END:VEVENT
BEGIN:VEVENT
DTSTART;TZID=America/Detroit:20260403T190000
DTEND;TZID=America/Detroit:20260403T220000
DTSTAMP:20260419T093200
CREATED:20241004T204047Z
LAST-MODIFIED:20260302T190100Z
UID:4105-1775242800-1775253600@parksrec.ca
SUMMARY:Matt Lalonde - Live At Parks
DESCRIPTION:Matt Lalonde – Live At Parks at 7pm
URL:https://parksrec.ca/event/live-music-parks-rec-4/
CATEGORIES:Live Music
END:VEVENT
BEGIN:VEVENT
DTSTART;TZID=America/Detroit:20251018T190000
DTEND;TZID=America/Detroit:20251018T220000
DTSTAMP:20260419T093200
CREATED:20250102T192226Z
LAST-MODIFIED:20251009T172835Z
UID:4381-1760814000-1760824800@parksrec.ca
SUMMARY:James Staley - Live At Parks
DESCRIPTION:James Staley  – Live At Parks at 7pm
URL:https://parksrec.ca/event/james-staley-live-at-parks/
CATEGORIES:Live Music
END:VEVENT
BEGIN:VEVENT
DTSTART;TZID=America/Detroit:20250125T190000
DTEND;TZID=America/Detroit:20250125T220000
DTSTAMP:20260419T093200
CREATED:20240612T194731Z
LAST-MODIFIED:20250102T191854Z
UID:3717-1737831600-1737842400@parksrec.ca
SUMMARY:Justin Dow from Petals of Gold - Live At Parks
DESCRIPTION:Justin Dow from Petals of Gold – Live At Parks at 7pm
URL:https://parksrec.ca/event/live-music-parks-rec-2/
CATEGORIES:Live Music
END:VEVENT
END:VCALENDAR